BEGIN:VCALENDAR
VERSION:2.0
PRODID:-// - ECPv6.15.17.1//NONSGML v1.0//EN
CALSCALE:GREGORIAN
METHOD:PUBLISH
X-ORIGINAL-URL:https://www.congress-woerthersee.at
X-WR-CALDESC:Veranstaltungen für 
REFRESH-INTERVAL;VALUE=DURATION:PT1H
X-Robots-Tag:noindex
X-PUBLISHED-TTL:PT1H
BEGIN:VTIMEZONE
TZID:Europe/Berlin
BEGIN:DAYLIGHT
TZOFFSETFROM:+0100
TZOFFSETTO:+0200
TZNAME:CEST
DTSTART:20250330T010000
END:DAYLIGHT
BEGIN:STANDARD
TZOFFSETFROM:+0200
TZOFFSETTO:+0100
TZNAME:CET
DTSTART:20251026T010000
END:STANDARD
BEGIN:DAYLIGHT
TZOFFSETFROM:+0100
TZOFFSETTO:+0200
TZNAME:CEST
DTSTART:20260329T010000
END:DAYLIGHT
BEGIN:STANDARD
TZOFFSETFROM:+0200
TZOFFSETTO:+0100
TZNAME:CET
DTSTART:20261025T010000
END:STANDARD
BEGIN:DAYLIGHT
TZOFFSETFROM:+0100
TZOFFSETTO:+0200
TZNAME:CEST
DTSTART:20270328T010000
END:DAYLIGHT
BEGIN:STANDARD
TZOFFSETFROM:+0200
TZOFFSETTO:+0100
TZNAME:CET
DTSTART:20271031T010000
END:STANDARD
END:VTIMEZONE
BEGIN:VEVENT
DTSTART;VALUE=DATE:20260529
DTEND;VALUE=DATE:20260601
DTSTAMP:20260419T142227
CREATED:20260403T092553Z
LAST-MODIFIED:20260403T095317Z
UID:862-1780012800-1780271999@www.congress-woerthersee.at
SUMMARY:Namaste am See
DESCRIPTION:Vom 29.-31. Mai 2026 treffen sich wieder die weltweit besten Yoga-Lehrer beim NAMASTE AM SEE Yoga-Festival am Wörthersee \nDas NAMASTE AM SEE Yoga-Festival am Wörthersee ist für Yoga-Fans aller Könner- und Altersstufen ein absoluter Pflichttermin um ihre innere Mitte – inklusive einzigartigem Urlaubsfeeling und südlichem Lifestyle – zu finden. Jährlich werden dabei hunderte Yogamatten an den vielen traumhaften Locations direkt am Ufer des Wörthersees ausgebreitet. Dabei treffen sich die weltbesten Yoga-Lehrer/innen der Szene um gemeinsam mit der ebenfalls internationalen Yoga-Community zu praktizieren.
URL:https://www.congress-woerthersee.at/termin/namaste-am-see-2/
ATTACH;FMTTYPE=image/jpeg:https://www.congress-woerthersee.at/wp-content/uploads/sites/9/2026/04/Screenshot-2026-04-03-112622.jpg
ORGANIZER;CN="Region W%C3%B6rthersee-Rosental Tourismus GmbH":MAILTO:info@woerthersee.com
END:VEVENT
BEGIN:VEVENT
DTSTART;VALUE=DATE:20261009
DTEND;VALUE=DATE:20261012
DTSTAMP:20260419T142227
CREATED:20260211T135905Z
LAST-MODIFIED:20260408T175728Z
UID:845-1791504000-1791763199@www.congress-woerthersee.at
SUMMARY:Helios Kongress
DESCRIPTION:Eine Plattform für Dialog\, Tiefe und Verbindung\n\n\nDie Helios GmbH wurde aus einer klaren Vision heraus gegründet: Wissenschaft\, Medizin und Humanenergetik in einen lebendigen Dialog zu bringen. Dort\, wo Disziplinen sich oft voneinander abgrenzen\, schaffen wir Räume für Begegnung\, Austausch und nachhaltige Kooperationen.Unser Ziel ist es\, Synergien sichtbar und nutzbar zu machen – für die Betrachtung des Menschen als Einheit von Körper\, Geist und Seele. \nIm Zentrum unseres Wirkens steht der jährlich stattfindende Helios Kongress. Er ist das Herzstück von Helios und verbindet Menschen aus unterschiedlichen Fachrichtungen: Mediziner:innen\, Therapeut:innen und Energetiker:innen – auf Augenhöhe\, offen und zukunftsorientiert. \nFlyer
URL:https://www.congress-woerthersee.at/termin/helios-kongress/
ATTACH;FMTTYPE=image/jpeg:https://www.congress-woerthersee.at/wp-content/uploads/sites/9/2026/02/Screenshot-2026-02-11-145941.jpg
ORGANIZER;CN="Helios GmbH":MAILTO:office@helios-connect.at
END:VEVENT
END:VCALENDAR